BEGIN:VCALENDAR
VERSION:2.0
PRODID:-//SVP Pfäffikon ZH //NONSGML Events //EN
CALSCALE:GREGORIAN
X-WR-CALNAME:SVP Pfäffikon ZH
BEGIN:VEVENT
CREATED:20251223T124728Z
UID:6208
DTEND:20260608T200000
DTSTART:20260608T193000
DTSTAMP:20260425T141331Z
LOCATION:
DESCRIPTION:
SUMMARY:Parteiversammlung SVP Pfäffikon
ORGANIZER:
URL;VALUE=URI:https://www.svp-pfaeffikon.ch/termine/parteiversammlung-svp-pfaeffikon/
TRANSP:OPAQUE
END:VEVENT
END:VCALENDAR
