BEGIN:VCALENDAR
VERSION:2.0
PRODID:-//SVP Pfäffikon ZH //NONSGML Events //EN
CALSCALE:GREGORIAN
X-WR-CALNAME:SVP Pfäffikon ZH
BEGIN:VEVENT
CREATED:20251223T124614Z
UID:6204
DTEND:20260502T120000
DTSTART:20260502T110000
DTSTAMP:20260421T091316Z
LOCATION:Rest. Hecht
DESCRIPTION:
SUMMARY:Znüni-Stamm
ORGANIZER:
URL;VALUE=URI:https://www.svp-pfaeffikon.ch/termine/znueni-stamm-51/
TRANSP:OPAQUE
END:VEVENT
END:VCALENDAR
