BEGIN:VCALENDAR
VERSION:2.0
PRODID:-//SVP Pfäffikon ZH //NONSGML Events //EN
CALSCALE:GREGORIAN
X-WR-CALNAME:SVP Pfäffikon ZH
BEGIN:VEVENT
CREATED:20251223T124428Z
UID:6200
DTEND:20260404T120000
DTSTART:20260404T110000
DTSTAMP:20260421T085843Z
LOCATION:Rest. Hecht
DESCRIPTION:
SUMMARY:Znüni-Stamm
ORGANIZER:
URL;VALUE=URI:https://www.svp-pfaeffikon.ch/termine/znueni-stamm-50/
TRANSP:OPAQUE
END:VEVENT
END:VCALENDAR
