BEGIN:VCALENDAR
VERSION:2.0
PRODID:-//SVP Pfäffikon ZH //NONSGML Events //EN
CALSCALE:GREGORIAN
X-WR-CALNAME:SVP Pfäffikon ZH
BEGIN:VEVENT
CREATED:20241208T211619Z
UID:5909
DTEND:20250405T120000
DTSTART:20250405T110000
DTSTAMP:20260420T140235Z
LOCATION:Restaurant Hecht\, Pfäffikon
DESCRIPTION:
SUMMARY:Znüni-Stamm
ORGANIZER:
URL;VALUE=URI:https://www.svp-pfaeffikon.ch/termine/znueni-stamm-40/
TRANSP:OPAQUE
END:VEVENT
END:VCALENDAR
