BEGIN:VCALENDAR
VERSION:2.0
PRODID:-//SVP Pfäffikon ZH //NONSGML Events //EN
CALSCALE:GREGORIAN
X-WR-CALNAME:SVP Pfäffikon ZH
BEGIN:VEVENT
CREATED:20240920T092312Z
UID:5852
DTEND:20251025T000000
DTSTART:20251025T000000
DTSTAMP:20260421T090718Z
LOCATION:
DESCRIPTION:
SUMMARY:Delegiertenversammlung SVP Schweiz
ORGANIZER:
URL;VALUE=URI:https://www.svp-pfaeffikon.ch/termine/delegiertenversammlung-svp-schweiz-14/
TRANSP:OPAQUE
END:VEVENT
END:VCALENDAR
