BEGIN:VCALENDAR
VERSION:2.0
PRODID:-//SVP Pfäffikon ZH //NONSGML Events //EN
CALSCALE:GREGORIAN
X-WR-CALNAME:SVP Pfäffikon ZH
BEGIN:VEVENT
CREATED:20221006T124344Z
UID:5181
DTEND:20230701T000000
DTSTART:20230701T000000
DTSTAMP:20260421T074141Z
LOCATION:Kanton Schwyz
DESCRIPTION:
SUMMARY:Delegiertenversammlung SVP Schweiz (Sonderparteitag)
ORGANIZER:
URL;VALUE=URI:https://www.svp-pfaeffikon.ch/termine/delegiertenversammlung-svp-schweiz-sonderparteitag/
TRANSP:OPAQUE
END:VEVENT
END:VCALENDAR
