BEGIN:VCALENDAR
VERSION:2.0
PRODID:-//SVP Pfäffikon ZH //NONSGML Events //EN
CALSCALE:GREGORIAN
X-WR-CALNAME:SVP Pfäffikon ZH
BEGIN:VEVENT
CREATED:20211212T191150Z
UID:4463
DTEND:20220925T000000
DTSTART:20220925T000000
DTSTAMP:20260423T104033Z
LOCATION:
DESCRIPTION:
SUMMARY:Abstimmungen
ORGANIZER:
URL;VALUE=URI:https://www.svp-pfaeffikon.ch/termine/abstimmungen-3/
TRANSP:OPAQUE
END:VEVENT
END:VCALENDAR
